BEGIN:VCALENDAR
VERSION:2.0
PRODID:-//ASCIR - ECPv6.0.9//NONSGML v1.0//EN
CALSCALE:GREGORIAN
METHOD:PUBLISH
X-WR-CALNAME:ASCIR
X-ORIGINAL-URL:https://ascir.org
X-WR-CALDESC:Events for ASCIR
REFRESH-INTERVAL;VALUE=DURATION:PT1H
X-Robots-Tag:noindex
X-PUBLISHED-TTL:PT1H
BEGIN:VTIMEZONE
TZID:UTC
BEGIN:STANDARD
TZOFFSETFROM:+0000
TZOFFSETTO:+0000
TZNAME:UTC
DTSTART:20230101T000000
END:STANDARD
END:VTIMEZONE
BEGIN:VEVENT
DTSTART;TZID=UTC:20230209T120000
DTEND;TZID=UTC:20230209T120000
DTSTAMP:20260421T230847
CREATED:20230211T131849Z
LAST-MODIFIED:20230211T134957Z
UID:3032-1675944000-1675944000@ascir.org
SUMMARY:Emerging Scholars' Writing Workshop Outputs and Experiences
DESCRIPTION:TOPIC: How Language Holds Back Chinese Migrants’ Integration Into African Society \nZoom Link: \nhttps://us06web.zoom.us/webinar/register/WN_32aetzE6T6-RSRhtbrPzJA
URL:https://ascir.org/event/emerging-scholars-writing-workshop-outputs-and-experiences/
ATTACH;FMTTYPE=image/jpeg:https://ascir.org/wp-content/uploads/2023/02/4ff82b47-b6ca-45ed-b873-f992b63ef034.jpg
ORGANIZER;CN="ASCIR":MAILTO:afrosinocentre@gmail.com
END:VEVENT
END:VCALENDAR