BEGIN:VCALENDAR
VERSION:2.0
PRODID:-//ASCIR - ECPv6.0.9//NONSGML v1.0//EN
CALSCALE:GREGORIAN
METHOD:PUBLISH
X-WR-CALNAME:ASCIR
X-ORIGINAL-URL:https://ascir.org
X-WR-CALDESC:Events for ASCIR
REFRESH-INTERVAL;VALUE=DURATION:PT1H
X-Robots-Tag:noindex
X-PUBLISHED-TTL:PT1H
BEGIN:VTIMEZONE
TZID:America/New_York
BEGIN:DAYLIGHT
TZOFFSETFROM:-0500
TZOFFSETTO:-0400
TZNAME:EDT
DTSTART:20230312T070000
END:DAYLIGHT
BEGIN:STANDARD
TZOFFSETFROM:-0400
TZOFFSETTO:-0500
TZNAME:EST
DTSTART:20231105T060000
END:STANDARD
TZID:UTC
BEGIN:STANDARD
TZOFFSETFROM:+0000
TZOFFSETTO:+0000
TZNAME:UTC
DTSTART:20230101T000000
END:STANDARD
END:VTIMEZONE
BEGIN:VEVENT
DTSTART;TZID=America/New_York:20230330T160000
DTEND;TZID=America/New_York:20230330T180000
DTSTAMP:20260422T002750
CREATED:20230321T093435Z
LAST-MODIFIED:20230321T094624Z
UID:3169-1680192000-1680199200@ascir.org
SUMMARY:AFRICAN TEA TIME
DESCRIPTION:Kongamano Student Group in collaboration with the African Studies Center presents African Tea Time! An opportunity to learn and share about first-hand experiences on the African Continent. \n\nOPEN TO EVERYONE! \nCLICK HERE TO REGISTER \n \n\n\n\n\nMulti-African Countries\nTheme: Global China and U.S Strategic Interests in Africa \nSpeaker: Arhin Acheampong\, Deputy Director\, Afro-Sino Center of International Relations (ASCIR)\, Ghana \nAfrica-China relations date back to the early Han dynasty. Today\, China has become the continent’s largest trading partner and biggest investor with a two-way trade of $254 billion and investments exceeding $2 billion in the first seven months of 2021 alone. On the other hand\, Africa-US combined two-way trade and investment stood at $18 billion across 47 African countries in 2021. \nChina is increasingly becoming a partner of choice to several African countries. Countries like Ethiopia are exploring policy decisions to offer incentives aimed at increasing Chinese investments in the country to diversify the domestic industry. China’s outlook on the continent has also increased tremendously with current research findings placing the United States second to China in terms of positive influence/outlook on the continent. This feat by China is largely attributed to China’s infrastructure projects and investments on the continent. \nAfrica’s infrastructure needs are estimated to be between $130billion and $170 billion annually with an existing financing gap of $68-108billion. Currently\, Chinese companies dominate Africa’s construction and infrastructure sector with market shares ranging between 31-62%. In the 1990s\, America and Europe held market shares of over 85% on the continent. Chinese companies are venturing into almost all sectors of infrastructure and construction and are characterized by easy financing\, enormous scale\, low costs and high-speed. \nWhile Africa benefits from these massive infrastructure projects and investments\, China\, which has been aware of Africa’s collective political power in multilateral organizations has benefitted significantly from the continent in that regard. The two partners have increasingly signaled a ‘win-win’ collaboration among co-equals. \nAre American efforts at increasing engagement in trade and creating opportunities on the continent yielding the anticipated results? \nFacilitator: Dr. Damaris Choti\, Coordinator of Student & Alumni Programs\, African Studies Center\, MSU
URL:https://ascir.org/event/african-tea-time/
LOCATION:ZOOM
END:VEVENT
BEGIN:VEVENT
DTSTART;TZID=UTC:20230428T153000
DTEND;TZID=UTC:20230428T170000
DTSTAMP:20260422T002750
CREATED:20230426T112908Z
LAST-MODIFIED:20230426T113438Z
UID:3233-1682695800-1682701200@ascir.org
SUMMARY:China-Trained African Professionals Series
DESCRIPTION:
URL:https://ascir.org/event/china-trained-african-professionals-series-2/
ATTACH;FMTTYPE=image/jpeg:https://ascir.org/wp-content/uploads/2023/04/ctaps-01-scaled.jpg
ORGANIZER;CN="ASCIR":MAILTO:afrosinocentre@gmail.com
END:VEVENT
BEGIN:VEVENT
DTSTART;TZID=UTC:20230612T083000
DTEND;TZID=UTC:20230612T083000
DTSTAMP:20260422T002750
CREATED:20230610T165844Z
LAST-MODIFIED:20230612T173335Z
UID:3281-1686558600-1686558600@ascir.org
SUMMARY:Maiden Biennial Media Forum On Natural Resources\, Environment\, Climate Change and Science (BIM-NECS FORUM)
DESCRIPTION:Theme:\n“Strengthening media focus on natural resources\, environment\, climate change and science: Challenges\, Prospects and Way forward.” \nKeynote Speaker: Professor Christopher Gordon. Founder and Former Director of the institute of Environment and Sanitation Studies (IESS) of the University of Ghana
URL:https://ascir.org/event/maiden-biennial-media-forum-on-natural-resources-environment-climate-change-and-science-bim-necs-forum/
LOCATION:Kofi\, Kofi Annan Center of Excellence in ICT\, Accra\, Greater Accra\, Ghana
ATTACH;FMTTYPE=image/jpeg:https://ascir.org/wp-content/uploads/2023/06/IMG-20230610-WA0019.jpg
ORGANIZER;CN="ASCIR":MAILTO:afrosinocentre@gmail.com
END:VEVENT
BEGIN:VEVENT
DTSTART;TZID=UTC:20230621T100000
DTEND;TZID=UTC:20230621T100000
DTSTAMP:20260422T002750
CREATED:20230620T133732Z
LAST-MODIFIED:20230625T134007Z
UID:3291-1687341600-1687341600@ascir.org
SUMMARY:An Integrated Framework for a Multi-Layered Digital Education: Strategies for Digital Transformation in Africa
DESCRIPTION:
URL:https://ascir.org/event/an-integrated-framework-for-a-multi-layered-digital-education-strategies-for-digital-transformation-in-africa/
ATTACH;FMTTYPE=image/png:https://ascir.org/wp-content/uploads/2023/06/ascir-event-june.png
END:VEVENT
BEGIN:VEVENT
DTSTART;TZID=UTC:20230622T110000
DTEND;TZID=UTC:20230622T110000
DTSTAMP:20260422T002750
CREATED:20230620T134043Z
LAST-MODIFIED:20230625T134554Z
UID:3294-1687431600-1687431600@ascir.org
SUMMARY:CHINA-TRAINED AFRICAN PROFESSIONALS SERIES
DESCRIPTION:Sharing the China Experience-Opportunities and Challenges across the continent and industries.
URL:https://ascir.org/event/china-trained-african-professionals-series-3/
ATTACH;FMTTYPE=image/jpeg:https://ascir.org/wp-content/uploads/2023/06/IMG-20230622-WA0007.jpg
END:VEVENT
BEGIN:VEVENT
DTSTART;TZID=UTC:20240903T130000
DTEND;TZID=UTC:20240903T170000
DTSTAMP:20260422T002750
CREATED:20240829T200246Z
LAST-MODIFIED:20240829T200246Z
UID:3585-1725368400-1725382800@ascir.org
SUMMARY:FOCAC 2024
DESCRIPTION:ADDRESSING THE ROOT CAUSES OF COUPS IN WEST AFRICA – EXPLORING CHINA’S ROLE AS A STRATEGIC PARTNER\nA convening of experts in Africa-China Security relations to share insights on what UN Secretary General\, António Guterres\, has described as an ‘epidemic of coup d’etats’. \nRegister Now
URL:https://ascir.org/event/focac-2024/
LOCATION:Microsoft Teams\, https://bit.ly/3Mjzqj7\, Online
ATTACH;FMTTYPE=image/jpeg:https://ascir.org/wp-content/uploads/2024/08/ascir-focac-2024.jpeg
END:VEVENT
END:VCALENDAR